BEGIN:VCALENDAR
VERSION:2.0
PRODID:-//Parkville Market - ECPv6.15.15//NONSGML v1.0//EN
CALSCALE:GREGORIAN
METHOD:PUBLISH
X-ORIGINAL-URL:https://parkvillemarket.com
X-WR-CALDESC:Events for Parkville Market
REFRESH-INTERVAL;VALUE=DURATION:PT1H
X-Robots-Tag:noindex
X-PUBLISHED-TTL:PT1H
BEGIN:VTIMEZONE
TZID:America/New_York
BEGIN:DAYLIGHT
TZOFFSETFROM:-0500
TZOFFSETTO:-0400
TZNAME:EDT
DTSTART:20220313T070000
END:DAYLIGHT
BEGIN:STANDARD
TZOFFSETFROM:-0400
TZOFFSETTO:-0500
TZNAME:EST
DTSTART:20221106T060000
END:STANDARD
BEGIN:DAYLIGHT
TZOFFSETFROM:-0500
TZOFFSETTO:-0400
TZNAME:EDT
DTSTART:20230312T070000
END:DAYLIGHT
BEGIN:STANDARD
TZOFFSETFROM:-0400
TZOFFSETTO:-0500
TZNAME:EST
DTSTART:20231105T060000
END:STANDARD
BEGIN:DAYLIGHT
TZOFFSETFROM:-0500
TZOFFSETTO:-0400
TZNAME:EDT
DTSTART:20240310T070000
END:DAYLIGHT
BEGIN:STANDARD
TZOFFSETFROM:-0400
TZOFFSETTO:-0500
TZNAME:EST
DTSTART:20241103T060000
END:STANDARD
END:VTIMEZONE
BEGIN:VEVENT
DTSTART;TZID=America/New_York:20230930T130000
DTEND;TZID=America/New_York:20230930T170000
DTSTAMP:20260421T094146
CREATED:20230915T183432Z
LAST-MODIFIED:20240104T165001Z
UID:10004748-1696078800-1696093200@parkvillemarket.com
SUMMARY:UA Academy's Saturday Parkville Market League
DESCRIPTION:Players Wanted! Join UA Academy for weekly gaming at Parkville Market! \nAll skill levels are invited to play on Saturdays from 1-5 PM – learners\, casual gamers\, and professionals come together to enjoy good vibes and good gaming! \nCasual Play Ages 10+\nCompetitive Play 18+
URL:https://parkvillemarket.com/event/ua-academys-saturday-parkville-market-league/2023-09-30/
ATTACH;FMTTYPE=image/jpeg:https://parkvillemarket.com/wp-content/uploads/2023/09/Web-UA-Gaming-Saturday-League.jpg
END:VEVENT
BEGIN:VEVENT
DTSTART;TZID=America/New_York:20230930T180000
DTEND;TZID=America/New_York:20230930T200000
DTSTAMP:20260421T094146
CREATED:20230810T164855Z
LAST-MODIFIED:20230911T195040Z
UID:10004714-1696096800-1696104000@parkvillemarket.com
SUMMARY:People of Goodwill on the Patio
DESCRIPTION:Join us outside on the Patio for the sounds of People of Goodwill on Saturday\, September 30\, from 6-8 PM! \nPeople of Goodwill takes pride in being a band that reflects a unique blend of styles and cultures in both its music and membership. Through its “Music of the Afrikan Diaspora\,” People of Goodwill seeks to communicate and share a positive message with all of humanity.
URL:https://parkvillemarket.com/event/people-of-goodwill/
LOCATION:The Patio
CATEGORIES:Free Live Music
ATTACH;FMTTYPE=image/jpeg:https://parkvillemarket.com/wp-content/uploads/2023/08/Web-People-of-Goodwill-1-1.jpg
END:VEVENT
END:VCALENDAR