BEGIN:VCALENDAR
VERSION:2.0
PRODID:-//Parkville Market - ECPv6.15.15//NONSGML v1.0//EN
CALSCALE:GREGORIAN
METHOD:PUBLISH
X-WR-CALNAME:Parkville Market
X-ORIGINAL-URL:https://parkvillemarket.com
X-WR-CALDESC:Events for Parkville Market
REFRESH-INTERVAL;VALUE=DURATION:PT1H
X-Robots-Tag:noindex
X-PUBLISHED-TTL:PT1H
BEGIN:VTIMEZONE
TZID:America/New_York
BEGIN:DAYLIGHT
TZOFFSETFROM:-0500
TZOFFSETTO:-0400
TZNAME:EDT
DTSTART:20220313T070000
END:DAYLIGHT
BEGIN:STANDARD
TZOFFSETFROM:-0400
TZOFFSETTO:-0500
TZNAME:EST
DTSTART:20221106T060000
END:STANDARD
BEGIN:DAYLIGHT
TZOFFSETFROM:-0500
TZOFFSETTO:-0400
TZNAME:EDT
DTSTART:20230312T070000
END:DAYLIGHT
BEGIN:STANDARD
TZOFFSETFROM:-0400
TZOFFSETTO:-0500
TZNAME:EST
DTSTART:20231105T060000
END:STANDARD
BEGIN:DAYLIGHT
TZOFFSETFROM:-0500
TZOFFSETTO:-0400
TZNAME:EDT
DTSTART:20240310T070000
END:DAYLIGHT
BEGIN:STANDARD
TZOFFSETFROM:-0400
TZOFFSETTO:-0500
TZNAME:EST
DTSTART:20241103T060000
END:STANDARD
END:VTIMEZONE
BEGIN:VEVENT
DTSTART;TZID=America/New_York:20231028T120000
DTEND;TZID=America/New_York:20231028T143000
DTSTAMP:20260421T092306
CREATED:20231025T161723Z
LAST-MODIFIED:20231025T161804Z
UID:10005324-1698494400-1698503400@parkvillemarket.com
SUMMARY:Harvest Party with Vox Church
DESCRIPTION:You’re invited to Vox Church’s Harvest Party on the Parkville Market Patio!  Live music\, games\, raffle prizes\, crafts\, and more!
URL:https://parkvillemarket.com/event/harvest-party-with-vox-church/
ATTACH;FMTTYPE=image/png:https://parkvillemarket.com/wp-content/uploads/2023/10/image-4.png
END:VEVENT
BEGIN:VEVENT
DTSTART;TZID=America/New_York:20231028T130000
DTEND;TZID=America/New_York:20231028T170000
DTSTAMP:20260421T092306
CREATED:20230915T183432Z
LAST-MODIFIED:20240104T165001Z
UID:10004752-1698498000-1698512400@parkvillemarket.com
SUMMARY:UA Academy's Saturday Parkville Market League
DESCRIPTION:Players Wanted! Join UA Academy for weekly gaming at Parkville Market! \nAll skill levels are invited to play on Saturdays from 1-5 PM – learners\, casual gamers\, and professionals come together to enjoy good vibes and good gaming! \nCasual Play Ages 10+\nCompetitive Play 18+
URL:https://parkvillemarket.com/event/ua-academys-saturday-parkville-market-league/2023-10-28/
ATTACH;FMTTYPE=image/jpeg:https://parkvillemarket.com/wp-content/uploads/2023/09/Web-UA-Gaming-Saturday-League.jpg
END:VEVENT
BEGIN:VEVENT
DTSTART;TZID=America/New_York:20231028T190000
DTEND;TZID=America/New_York:20231028T210000
DTSTAMP:20260421T092306
CREATED:20231012T204716Z
LAST-MODIFIED:20231012T204716Z
UID:10005089-1698519600-1698526800@parkvillemarket.com
SUMMARY:Rock the Local: RuLove Williams
DESCRIPTION:Join us as we Rock The Local on Saturday\, October 28 with RuLove Williams! \n 
URL:https://parkvillemarket.com/event/rock-the-local-rulove-williams/
LOCATION:The Local\, 1400 Park Street\, Hartford\, Connecticut (CT)\, 06106\, United States
CATEGORIES:Free Live Music
ATTACH;FMTTYPE=image/jpeg:https://parkvillemarket.com/wp-content/uploads/2023/10/Web-Rock-the-Local-Oct.jpg
END:VEVENT
END:VCALENDAR