BEGIN:VCALENDAR
VERSION:2.0
PRODID:-//Parkville Market - ECPv6.15.15//NONSGML v1.0//EN
CALSCALE:GREGORIAN
METHOD:PUBLISH
X-ORIGINAL-URL:https://parkvillemarket.com
X-WR-CALDESC:Events for Parkville Market
REFRESH-INTERVAL;VALUE=DURATION:PT1H
X-Robots-Tag:noindex
X-PUBLISHED-TTL:PT1H
BEGIN:VTIMEZONE
TZID:America/New_York
BEGIN:DAYLIGHT
TZOFFSETFROM:-0500
TZOFFSETTO:-0400
TZNAME:EDT
DTSTART:20220313T070000
END:DAYLIGHT
BEGIN:STANDARD
TZOFFSETFROM:-0400
TZOFFSETTO:-0500
TZNAME:EST
DTSTART:20221106T060000
END:STANDARD
BEGIN:DAYLIGHT
TZOFFSETFROM:-0500
TZOFFSETTO:-0400
TZNAME:EDT
DTSTART:20230312T070000
END:DAYLIGHT
BEGIN:STANDARD
TZOFFSETFROM:-0400
TZOFFSETTO:-0500
TZNAME:EST
DTSTART:20231105T060000
END:STANDARD
BEGIN:DAYLIGHT
TZOFFSETFROM:-0500
TZOFFSETTO:-0400
TZNAME:EDT
DTSTART:20240310T070000
END:DAYLIGHT
BEGIN:STANDARD
TZOFFSETFROM:-0400
TZOFFSETTO:-0500
TZNAME:EST
DTSTART:20241103T060000
END:STANDARD
END:VTIMEZONE
BEGIN:VEVENT
DTSTART;TZID=America/New_York:20231031T180000
DTEND;TZID=America/New_York:20231031T210000
DTSTAMP:20260419T224802
CREATED:20231024T200515Z
LAST-MODIFIED:20231024T200517Z
UID:10003581-1698775200-1698786000@parkvillemarket.com
SUMMARY:Salsa Lesson with Joey Huertas
DESCRIPTION:Have you been searching ways to add some flavor to your Tuesdays? Looking to prepare for the next Salsa Under the Stars? Come join our Salsa classes hosted by Joey Salsa Con Huertas from 6pm – 9pm located in our Brick Room (under the stairs\, near the elevator)!
URL:https://parkvillemarket.com/event/salsa-dancing-at-parkville-market-5/
LOCATION:Brick Room\, 1400 Park Street\, Hartford\, Connecticut (CT)\, 06106\, United States
ATTACH;FMTTYPE=image/jpeg:https://parkvillemarket.com/wp-content/uploads/2023/01/Salsa_dancing_lessons_parkville_market.jpg
END:VEVENT
BEGIN:VEVENT
DTSTART;TZID=America/New_York:20231031T190000
DTEND;TZID=America/New_York:20231031T210000
DTSTAMP:20260419T224802
CREATED:20230119T203610Z
LAST-MODIFIED:20240426T170910Z
UID:10003844-1698778800-1698786000@parkvillemarket.com
SUMMARY:Trivia Tuesday
DESCRIPTION:Get ready to flex your smarts! We’ve partnered with Bar Rated Entertainment to bring you the most fun trivia in town! Put those random facts in your brain to good use every Tuesday in The Local. \nPrizes\, drink specials\, and more! Sign-ups start at 7PM!
URL:https://parkvillemarket.com/event/trivia-night-parkville-market-2-5/2023-10-31/
ATTACH;FMTTYPE=image/jpeg:https://parkvillemarket.com/wp-content/uploads/2023/01/Web-Tuesday-Trivia-Updated.jpg
END:VEVENT
END:VCALENDAR