BEGIN:VCALENDAR
VERSION:2.0
PRODID:-//Parkville Market - ECPv6.15.15//NONSGML v1.0//EN
CALSCALE:GREGORIAN
METHOD:PUBLISH
X-WR-CALNAME:Parkville Market
X-ORIGINAL-URL:https://parkvillemarket.com
X-WR-CALDESC:Events for Parkville Market
REFRESH-INTERVAL;VALUE=DURATION:PT1H
X-Robots-Tag:noindex
X-PUBLISHED-TTL:PT1H
BEGIN:VTIMEZONE
TZID:America/New_York
BEGIN:DAYLIGHT
TZOFFSETFROM:-0500
TZOFFSETTO:-0400
TZNAME:EDT
DTSTART:20220313T070000
END:DAYLIGHT
BEGIN:STANDARD
TZOFFSETFROM:-0400
TZOFFSETTO:-0500
TZNAME:EST
DTSTART:20221106T060000
END:STANDARD
BEGIN:DAYLIGHT
TZOFFSETFROM:-0500
TZOFFSETTO:-0400
TZNAME:EDT
DTSTART:20230312T070000
END:DAYLIGHT
BEGIN:STANDARD
TZOFFSETFROM:-0400
TZOFFSETTO:-0500
TZNAME:EST
DTSTART:20231105T060000
END:STANDARD
BEGIN:DAYLIGHT
TZOFFSETFROM:-0500
TZOFFSETTO:-0400
TZNAME:EDT
DTSTART:20240310T070000
END:DAYLIGHT
BEGIN:STANDARD
TZOFFSETFROM:-0400
TZOFFSETTO:-0500
TZNAME:EST
DTSTART:20241103T060000
END:STANDARD
END:VTIMEZONE
BEGIN:VEVENT
DTSTART;TZID=America/New_York:20231104T130000
DTEND;TZID=America/New_York:20231104T170000
DTSTAMP:20260423T055835
CREATED:20230915T183432Z
LAST-MODIFIED:20240104T165001Z
UID:10004753-1699102800-1699117200@parkvillemarket.com
SUMMARY:UA Academy's Saturday Parkville Market League
DESCRIPTION:Players Wanted! Join UA Academy for weekly gaming at Parkville Market! \nAll skill levels are invited to play on Saturdays from 1-5 PM – learners\, casual gamers\, and professionals come together to enjoy good vibes and good gaming! \nCasual Play Ages 10+\nCompetitive Play 18+
URL:https://parkvillemarket.com/event/ua-academys-saturday-parkville-market-league/2023-11-04/
ATTACH;FMTTYPE=image/jpeg:https://parkvillemarket.com/wp-content/uploads/2023/09/Web-UA-Gaming-Saturday-League.jpg
END:VEVENT
BEGIN:VEVENT
DTSTART;TZID=America/New_York:20231104T190000
DTEND;TZID=America/New_York:20231104T210000
DTSTAMP:20260423T055835
CREATED:20231030T214909Z
LAST-MODIFIED:20231030T214917Z
UID:10005330-1699124400-1699131600@parkvillemarket.com
SUMMARY:Rock The Local: Fairfield Street Band
DESCRIPTION:On Saturdays we Rock The Local! \nWe’re always excited to showcase talented artists and bands from the local music scene. From rock to pop to folk\, there’s something for everyone to enjoy. So come out and support your local musicians\, grab a drink\, and enjoy an evening of great music! \n 
URL:https://parkvillemarket.com/event/rock-local-fairfield-st-band/
LOCATION:The Local\, 1400 Park Street\, Hartford\, Connecticut (CT)\, 06106\, United States
CATEGORIES:Free Live Music
ATTACH;FMTTYPE=image/jpeg:https://parkvillemarket.com/wp-content/uploads/2023/10/fairfield-st.jpg
END:VEVENT
END:VCALENDAR