BEGIN:VCALENDAR
VERSION:2.0
PRODID:-//Parkville Market - ECPv6.15.15//NONSGML v1.0//EN
CALSCALE:GREGORIAN
METHOD:PUBLISH
X-WR-CALNAME:Parkville Market
X-ORIGINAL-URL:https://parkvillemarket.com
X-WR-CALDESC:Events for Parkville Market
REFRESH-INTERVAL;VALUE=DURATION:PT1H
X-Robots-Tag:noindex
X-PUBLISHED-TTL:PT1H
BEGIN:VTIMEZONE
TZID:America/New_York
BEGIN:DAYLIGHT
TZOFFSETFROM:-0500
TZOFFSETTO:-0400
TZNAME:EDT
DTSTART:20220313T070000
END:DAYLIGHT
BEGIN:STANDARD
TZOFFSETFROM:-0400
TZOFFSETTO:-0500
TZNAME:EST
DTSTART:20221106T060000
END:STANDARD
BEGIN:DAYLIGHT
TZOFFSETFROM:-0500
TZOFFSETTO:-0400
TZNAME:EDT
DTSTART:20230312T070000
END:DAYLIGHT
BEGIN:STANDARD
TZOFFSETFROM:-0400
TZOFFSETTO:-0500
TZNAME:EST
DTSTART:20231105T060000
END:STANDARD
BEGIN:DAYLIGHT
TZOFFSETFROM:-0500
TZOFFSETTO:-0400
TZNAME:EDT
DTSTART:20240310T070000
END:DAYLIGHT
BEGIN:STANDARD
TZOFFSETFROM:-0400
TZOFFSETTO:-0500
TZNAME:EST
DTSTART:20241103T060000
END:STANDARD
END:VTIMEZONE
BEGIN:VEVENT
DTSTART;TZID=America/New_York:20231202T120000
DTEND;TZID=America/New_York:20231202T160000
DTSTAMP:20260420T003829
CREATED:20231030T205910Z
LAST-MODIFIED:20231127T190743Z
UID:10005329-1701518400-1701532800@parkvillemarket.com
SUMMARY:Holiday Community Celebration
DESCRIPTION:Santa is coming back to Parkville Market! \nMark your calendars for our Holiday Community Celebration on Saturday\, December 2\, from 12-4PM (while supplies last). \nIn partnership with Leo Clinic\, you’ll get to enjoy pictures with Santa\, ornament decorating\, face painting\, and more! \n 
URL:https://parkvillemarket.com/event/holiday-community-celebration/
ATTACH;FMTTYPE=image/jpeg:https://parkvillemarket.com/wp-content/uploads/2023/10/Website-Leo-Clinic-Holiday-Celebration-2023-1-1.jpg
END:VEVENT
BEGIN:VEVENT
DTSTART;TZID=America/New_York:20231202T130000
DTEND;TZID=America/New_York:20231202T170000
DTSTAMP:20260420T003829
CREATED:20230915T183432Z
LAST-MODIFIED:20240104T165001Z
UID:10004757-1701522000-1701536400@parkvillemarket.com
SUMMARY:UA Academy's Saturday Parkville Market League
DESCRIPTION:Players Wanted! Join UA Academy for weekly gaming at Parkville Market! \nAll skill levels are invited to play on Saturdays from 1-5 PM – learners\, casual gamers\, and professionals come together to enjoy good vibes and good gaming! \nCasual Play Ages 10+\nCompetitive Play 18+
URL:https://parkvillemarket.com/event/ua-academys-saturday-parkville-market-league/2023-12-02/
ATTACH;FMTTYPE=image/jpeg:https://parkvillemarket.com/wp-content/uploads/2023/09/Web-UA-Gaming-Saturday-League.jpg
END:VEVENT
BEGIN:VEVENT
DTSTART;TZID=America/New_York:20231202T163000
DTEND;TZID=America/New_York:20231202T183000
DTSTAMP:20260420T003829
CREATED:20231125T182559Z
LAST-MODIFIED:20231125T183123Z
UID:10005364-1701534600-1701541800@parkvillemarket.com
SUMMARY:Serenade Sessions with Dr. Violin
DESCRIPTION:Come join us as Patrick “Dr. Violin” Bougi serenades Parkville Market on our main level from 4:30-6:30PM! \nPatrick is a soulful violinist and aspiring medical doctor. He has traveled the country sharing his music and passion in conferences\, schools\, private events\, churches\, youth groups\, and other venues nationwide. He has performed/recorded with some of the nation’s most talented and successful artists\, including Israel Houghton (6-Time Grammy Award Winning Gospel Musician)\, Lalah Hathaway (5-Time Grammy Award Winning R&B Artist)\, John Stoddart (Grammy-Nominated Musician & Producer)\, Cece Winans (12-time Grammy Award Winner) and so many others!
URL:https://parkvillemarket.com/event/dr-violin-dec/
CATEGORIES:Free Live Music
ATTACH;FMTTYPE=image/jpeg:https://parkvillemarket.com/wp-content/uploads/2023/11/Website-Dr.-Violin.jpg
END:VEVENT
BEGIN:VEVENT
DTSTART;TZID=America/New_York:20231202T190000
DTEND;TZID=America/New_York:20231202T220000
DTSTAMP:20260420T003829
CREATED:20231107T185838Z
LAST-MODIFIED:20231107T230736Z
UID:10005353-1701543600-1701554400@parkvillemarket.com
SUMMARY:Rock The Local: Fairfield Street Band
DESCRIPTION:On Saturdays we Rock The Local! \nWe’re always excited to showcase talented artists and bands from the local music scene. From rock to pop to folk\, there’s something for everyone to enjoy. So come out and support your local musicians\, grab a drink\, and enjoy an evening of great music! \n 
URL:https://parkvillemarket.com/event/rock-the-local-fairfield-street-dec/
LOCATION:The Local\, 1400 Park Street\, Hartford\, Connecticut (CT)\, 06106\, United States
CATEGORIES:Free Live Music
ATTACH;FMTTYPE=image/jpeg:https://parkvillemarket.com/wp-content/uploads/2023/11/fairfield-st-dec-1.jpg
END:VEVENT
END:VCALENDAR