BEGIN:VCALENDAR
VERSION:2.0
PRODID:-//Parkville Market - ECPv6.15.15//NONSGML v1.0//EN
CALSCALE:GREGORIAN
METHOD:PUBLISH
X-WR-CALNAME:Parkville Market
X-ORIGINAL-URL:https://parkvillemarket.com
X-WR-CALDESC:Events for Parkville Market
REFRESH-INTERVAL;VALUE=DURATION:PT1H
X-Robots-Tag:noindex
X-PUBLISHED-TTL:PT1H
BEGIN:VTIMEZONE
TZID:America/New_York
BEGIN:DAYLIGHT
TZOFFSETFROM:-0500
TZOFFSETTO:-0400
TZNAME:EDT
DTSTART:20220313T070000
END:DAYLIGHT
BEGIN:STANDARD
TZOFFSETFROM:-0400
TZOFFSETTO:-0500
TZNAME:EST
DTSTART:20221106T060000
END:STANDARD
BEGIN:DAYLIGHT
TZOFFSETFROM:-0500
TZOFFSETTO:-0400
TZNAME:EDT
DTSTART:20230312T070000
END:DAYLIGHT
BEGIN:STANDARD
TZOFFSETFROM:-0400
TZOFFSETTO:-0500
TZNAME:EST
DTSTART:20231105T060000
END:STANDARD
BEGIN:DAYLIGHT
TZOFFSETFROM:-0500
TZOFFSETTO:-0400
TZNAME:EDT
DTSTART:20240310T070000
END:DAYLIGHT
BEGIN:STANDARD
TZOFFSETFROM:-0400
TZOFFSETTO:-0500
TZNAME:EST
DTSTART:20241103T060000
END:STANDARD
END:VTIMEZONE
BEGIN:VEVENT
DTSTART;TZID=America/New_York:20231203T110000
DTEND;TZID=America/New_York:20231203T130000
DTSTAMP:20260421T092349
CREATED:20231114T193733Z
LAST-MODIFIED:20231128T203551Z
UID:10005357-1701601200-1701608400@parkvillemarket.com
SUMMARY:A Very Merry Princess Brunch
DESCRIPTION:You are cordially invited to A Very Merry Princess Brunch at Parkville Market on Sunday\, December 3! We’re calling all princesses and princes to get all dressed up and join us for a sing along with Snow Sisters Elsa & Anna and Holiday Belle\, with a special surprise guest appearance! \nAdmission is $30 per person and includes a full breakfast buffet and assorted juices starting at 11AM. Children must be accompanied by an adult and tickets must be purchased for each child and adult in attendance.
URL:https://parkvillemarket.com/event/a-very-merry-princess-brunch/
LOCATION:Brick Room\, 1400 Park Street\, Hartford\, Connecticut (CT)\, 06106\, United States
ATTACH;FMTTYPE=image/jpeg:https://parkvillemarket.com/wp-content/uploads/2023/11/Web-Merry-Princess-Brunch.jpg
END:VEVENT
BEGIN:VEVENT
DTSTART;TZID=America/New_York:20231203T120000
DTEND;TZID=America/New_York:20231203T180000
DTSTAMP:20260421T092349
CREATED:20231128T213705Z
LAST-MODIFIED:20231128T213705Z
UID:10005366-1701604800-1701626400@parkvillemarket.com
SUMMARY:School of Rock: Fall Preview Show
DESCRIPTION:School of Rock will be performing a preview of their Fall 2023 Showcase in The Local beginning at 12 PM! \nFeatured music will include: The Strokes vs. Yeah Yeah Yeahs; Shred Heavy; Zappa; Michael Jackson vs. Prince; Taylor Swift; Woodstock ’69; Pink Floyd; and more!
URL:https://parkvillemarket.com/event/school-of-rock-fall-preview-show/
LOCATION:The Local\, 1400 Park Street\, Hartford\, Connecticut (CT)\, 06106\, United States
CATEGORIES:Free Live Music
ATTACH;FMTTYPE=image/jpeg:https://parkvillemarket.com/wp-content/uploads/2023/11/Web-School-of-Rock-Dec.jpg
END:VEVENT
END:VCALENDAR