BEGIN:VCALENDAR
VERSION:2.0
PRODID:-//Parkville Market - ECPv6.15.15//NONSGML v1.0//EN
CALSCALE:GREGORIAN
METHOD:PUBLISH
X-WR-CALNAME:Parkville Market
X-ORIGINAL-URL:https://parkvillemarket.com
X-WR-CALDESC:Events for Parkville Market
REFRESH-INTERVAL;VALUE=DURATION:PT1H
X-Robots-Tag:noindex
X-PUBLISHED-TTL:PT1H
BEGIN:VTIMEZONE
TZID:America/New_York
BEGIN:DAYLIGHT
TZOFFSETFROM:-0500
TZOFFSETTO:-0400
TZNAME:EDT
DTSTART:20230312T070000
END:DAYLIGHT
BEGIN:STANDARD
TZOFFSETFROM:-0400
TZOFFSETTO:-0500
TZNAME:EST
DTSTART:20231105T060000
END:STANDARD
BEGIN:DAYLIGHT
TZOFFSETFROM:-0500
TZOFFSETTO:-0400
TZNAME:EDT
DTSTART:20240310T070000
END:DAYLIGHT
BEGIN:STANDARD
TZOFFSETFROM:-0400
TZOFFSETTO:-0500
TZNAME:EST
DTSTART:20241103T060000
END:STANDARD
BEGIN:DAYLIGHT
TZOFFSETFROM:-0500
TZOFFSETTO:-0400
TZNAME:EDT
DTSTART:20250309T070000
END:DAYLIGHT
BEGIN:STANDARD
TZOFFSETFROM:-0400
TZOFFSETTO:-0500
TZNAME:EST
DTSTART:20251102T060000
END:STANDARD
END:VTIMEZONE
BEGIN:VEVENT
DTSTART;TZID=America/New_York:20240106T130000
DTEND;TZID=America/New_York:20240106T170000
DTSTAMP:20260424T050250
CREATED:20230915T183432Z
LAST-MODIFIED:20240104T165001Z
UID:10005481-1704546000-1704560400@parkvillemarket.com
SUMMARY:UA Academy's Saturday Parkville Market League
DESCRIPTION:Players Wanted! Join UA Academy for weekly gaming at Parkville Market! \nAll skill levels are invited to play on Saturdays from 1-5 PM – learners\, casual gamers\, and professionals come together to enjoy good vibes and good gaming! \nCasual Play Ages 10+\nCompetitive Play 18+
URL:https://parkvillemarket.com/event/ua-academys-saturday-parkville-market-league/2024-01-06/
ATTACH;FMTTYPE=image/jpeg:https://parkvillemarket.com/wp-content/uploads/2023/09/Web-UA-Gaming-Saturday-League.jpg
END:VEVENT
BEGIN:VEVENT
DTSTART;TZID=America/New_York:20240106T170000
DTEND;TZID=America/New_York:20240106T190000
DTSTAMP:20260424T050250
CREATED:20240104T175133Z
LAST-MODIFIED:20240104T175133Z
UID:10005538-1704560400-1704567600@parkvillemarket.com
SUMMARY:Serenade Sessions with Dr. Violin
DESCRIPTION:Come join us as Patrick “Dr. Violin” Bougi serenades Parkville Market on our main level from 5-7PM! \nPatrick is a soulful violinist and aspiring medical doctor. He has traveled the country sharing his music and passion in conferences\, schools\, private events\, churches\, youth groups\, and other venues nationwide. He has performed/recorded with some of the nation’s most talented and successful artists\, including Israel Houghton (6-Time Grammy Award Winning Gospel Musician)\, Lalah Hathaway (5-Time Grammy Award Winning R&B Artist)\, John Stoddart (Grammy-Nominated Musician & Producer)\, Cece Winans (12-time Grammy Award Winner) and so many others!
URL:https://parkvillemarket.com/event/serenade-sessions-with-dr-violin-jan/
CATEGORIES:Free Live Music
ATTACH;FMTTYPE=image/jpeg:https://parkvillemarket.com/wp-content/uploads/2024/01/Website-Dr.-Violin-1.jpg
END:VEVENT
BEGIN:VEVENT
DTSTART;TZID=America/New_York:20240106T190000
DTEND;TZID=America/New_York:20240106T230000
DTSTAMP:20260424T050250
CREATED:20231219T213833Z
LAST-MODIFIED:20240106T232024Z
UID:10005370-1704567600-1704582000@parkvillemarket.com
SUMMARY:School of Rock: An Evening of Rock
DESCRIPTION:Join School of Rock East Hartford | West Hartford in The Local for An Evening of Rock on Saturday\, January 6\, from 7-11 PM! \nFeatured performances by: Space Buns & The Degenerates\, Meet Me Thursday\, Arsenal of Kittens\, and Manic Mondays
URL:https://parkvillemarket.com/event/school-of-rock-an-evening-of-rock/
LOCATION:The Local\, 1400 Park Street\, Hartford\, Connecticut (CT)\, 06106\, United States
CATEGORIES:Free Live Music
ATTACH;FMTTYPE=image/jpeg:https://parkvillemarket.com/wp-content/uploads/2023/12/Web-School-of-Rock-Jan-2023.jpg
END:VEVENT
END:VCALENDAR