BEGIN:VCALENDAR
VERSION:2.0
PRODID:-//Parkville Market - ECPv6.15.15//NONSGML v1.0//EN
CALSCALE:GREGORIAN
METHOD:PUBLISH
X-WR-CALNAME:Parkville Market
X-ORIGINAL-URL:https://parkvillemarket.com
X-WR-CALDESC:Events for Parkville Market
REFRESH-INTERVAL;VALUE=DURATION:PT1H
X-Robots-Tag:noindex
X-PUBLISHED-TTL:PT1H
BEGIN:VTIMEZONE
TZID:America/New_York
BEGIN:DAYLIGHT
TZOFFSETFROM:-0500
TZOFFSETTO:-0400
TZNAME:EDT
DTSTART:20230312T070000
END:DAYLIGHT
BEGIN:STANDARD
TZOFFSETFROM:-0400
TZOFFSETTO:-0500
TZNAME:EST
DTSTART:20231105T060000
END:STANDARD
BEGIN:DAYLIGHT
TZOFFSETFROM:-0500
TZOFFSETTO:-0400
TZNAME:EDT
DTSTART:20240310T070000
END:DAYLIGHT
BEGIN:STANDARD
TZOFFSETFROM:-0400
TZOFFSETTO:-0500
TZNAME:EST
DTSTART:20241103T060000
END:STANDARD
BEGIN:DAYLIGHT
TZOFFSETFROM:-0500
TZOFFSETTO:-0400
TZNAME:EDT
DTSTART:20250309T070000
END:DAYLIGHT
BEGIN:STANDARD
TZOFFSETFROM:-0400
TZOFFSETTO:-0500
TZNAME:EST
DTSTART:20251102T060000
END:STANDARD
END:VTIMEZONE
BEGIN:VEVENT
DTSTART;TZID=America/New_York:20240412T110000
DTEND;TZID=America/New_York:20240412T220000
DTSTAMP:20260421T043551
CREATED:20240328T222823Z
LAST-MODIFIED:20240329T215540Z
UID:10005747-1712919600-1712959200@parkvillemarket.com
SUMMARY:National Grilled Cheese Day with Meltdown
DESCRIPTION:This is what our cheese dreams are made of! On Saturday\, April 12 – National Grilled Cheese Day – stop by Meltdown for any of their specialty grilled cheeses for only $10 all day!
URL:https://parkvillemarket.com/event/national-grilled-cheese-day-2024/
ATTACH;FMTTYPE=image/jpeg:https://parkvillemarket.com/wp-content/uploads/2024/03/Web-National-Grilled-Cheese-Day-1.jpg
END:VEVENT
BEGIN:VEVENT
DTSTART;TZID=America/New_York:20240412T190000
DTEND;TZID=America/New_York:20240412T213000
DTSTAMP:20260421T043551
CREATED:20240130T214344Z
LAST-MODIFIED:20240223T165127Z
UID:10005642-1712948400-1712957400@parkvillemarket.com
SUMMARY:RuPaul's Drag Race Watch Party
DESCRIPTION:It’s the “The Ruvolution\,” as 14 bold new queens compete in Season 16 of RuPaul’s Drag Race! Shake up your Friday nights and join us for a watch party\, hosted by Xiomarie LaBeija! \nWe’ll bring the games\, prizes\, music\, and of course RuPaul’s Drag Race on the big screen! Come show some love for your favorite drag performers! \nDoors open at 7PM and the show starts at 8PM! \nCost: FREE
URL:https://parkvillemarket.com/event/rupaul-drag-race-2/2024-04-12/
LOCATION:Brick Room\, 1400 Park Street\, Hartford\, Connecticut (CT)\, 06106\, United States
ATTACH;FMTTYPE=image/jpeg:https://parkvillemarket.com/wp-content/uploads/2024/01/drag-race-web.jpg
END:VEVENT
BEGIN:VEVENT
DTSTART;TZID=America/New_York:20240412T190000
DTEND;TZID=America/New_York:20240412T230000
DTSTAMP:20260421T043551
CREATED:20240315T175156Z
LAST-MODIFIED:20240315T175157Z
UID:10005567-1712948400-1712962800@parkvillemarket.com
SUMMARY:Fiesta Fridays: DJ Bombero
DESCRIPTION:Friday nights in The Local are heating up with massive fiesta vibes – get your groove on and enjoy Patrón margarita specials! \nWhether you’re looking to unwind after a long week or celebrate a special occasion\, Fiesta Fridays are the perfect way to do it! \n 
URL:https://parkvillemarket.com/event/fiesta-fridays-15/
LOCATION:The Local\, 1400 Park Street\, Hartford\, Connecticut (CT)\, 06106\, United States
CATEGORIES:Free Live Music
ATTACH;FMTTYPE=image/jpeg:https://parkvillemarket.com/wp-content/uploads/2023/12/fiesta-fri-general.jpg
END:VEVENT
END:VCALENDAR