BEGIN:VCALENDAR
VERSION:2.0
PRODID:-//Parkville Market - ECPv6.15.15//NONSGML v1.0//EN
CALSCALE:GREGORIAN
METHOD:PUBLISH
X-WR-CALNAME:Parkville Market
X-ORIGINAL-URL:https://parkvillemarket.com
X-WR-CALDESC:Events for Parkville Market
REFRESH-INTERVAL;VALUE=DURATION:PT1H
X-Robots-Tag:noindex
X-PUBLISHED-TTL:PT1H
BEGIN:VTIMEZONE
TZID:America/New_York
BEGIN:DAYLIGHT
TZOFFSETFROM:-0500
TZOFFSETTO:-0400
TZNAME:EDT
DTSTART:20230312T070000
END:DAYLIGHT
BEGIN:STANDARD
TZOFFSETFROM:-0400
TZOFFSETTO:-0500
TZNAME:EST
DTSTART:20231105T060000
END:STANDARD
BEGIN:DAYLIGHT
TZOFFSETFROM:-0500
TZOFFSETTO:-0400
TZNAME:EDT
DTSTART:20240310T070000
END:DAYLIGHT
BEGIN:STANDARD
TZOFFSETFROM:-0400
TZOFFSETTO:-0500
TZNAME:EST
DTSTART:20241103T060000
END:STANDARD
BEGIN:DAYLIGHT
TZOFFSETFROM:-0500
TZOFFSETTO:-0400
TZNAME:EDT
DTSTART:20250309T070000
END:DAYLIGHT
BEGIN:STANDARD
TZOFFSETFROM:-0400
TZOFFSETTO:-0500
TZNAME:EST
DTSTART:20251102T060000
END:STANDARD
END:VTIMEZONE
BEGIN:VEVENT
DTSTART;TZID=America/New_York:20240418T180000
DTEND;TZID=America/New_York:20240418T210000
DTSTAMP:20260421T112259
CREATED:20240328T181006Z
LAST-MODIFIED:20240328T181152Z
UID:10005647-1713463200-1713474000@parkvillemarket.com
SUMMARY:Main Market Acoustic Acts: "Big" Joe Linhart
DESCRIPTION:Wind down from the week and get an early start to your weekend with Acoustic Acts in the Main Market on Thursdays from 6-9 PM. \nOn Thursday\, April 18\, enjoy the sounds of Big Joe Linhart from Big Joe and the Stolen Hearts! \n 
URL:https://parkvillemarket.com/event/acoustic-acts-big-joe-linhart-april/
CATEGORIES:Free Live Music
ATTACH;FMTTYPE=image/jpeg:https://parkvillemarket.com/wp-content/uploads/2023/12/web-acoustic-apr18.jpg
END:VEVENT
END:VCALENDAR