BEGIN:VCALENDAR
VERSION:2.0
PRODID:-//Parkville Market - ECPv6.15.15//NONSGML v1.0//EN
CALSCALE:GREGORIAN
METHOD:PUBLISH
X-WR-CALNAME:Parkville Market
X-ORIGINAL-URL:https://parkvillemarket.com
X-WR-CALDESC:Events for Parkville Market
REFRESH-INTERVAL;VALUE=DURATION:PT1H
X-Robots-Tag:noindex
X-PUBLISHED-TTL:PT1H
BEGIN:VTIMEZONE
TZID:America/New_York
BEGIN:DAYLIGHT
TZOFFSETFROM:-0500
TZOFFSETTO:-0400
TZNAME:EDT
DTSTART:20230312T070000
END:DAYLIGHT
BEGIN:STANDARD
TZOFFSETFROM:-0400
TZOFFSETTO:-0500
TZNAME:EST
DTSTART:20231105T060000
END:STANDARD
BEGIN:DAYLIGHT
TZOFFSETFROM:-0500
TZOFFSETTO:-0400
TZNAME:EDT
DTSTART:20240310T070000
END:DAYLIGHT
BEGIN:STANDARD
TZOFFSETFROM:-0400
TZOFFSETTO:-0500
TZNAME:EST
DTSTART:20241103T060000
END:STANDARD
BEGIN:DAYLIGHT
TZOFFSETFROM:-0500
TZOFFSETTO:-0400
TZNAME:EDT
DTSTART:20250309T070000
END:DAYLIGHT
BEGIN:STANDARD
TZOFFSETFROM:-0400
TZOFFSETTO:-0500
TZNAME:EST
DTSTART:20251102T060000
END:STANDARD
END:VTIMEZONE
BEGIN:VEVENT
DTSTART;TZID=America/New_York:20241003T200000
DTEND;TZID=America/New_York:20241003T220000
DTSTAMP:20260419T082740
CREATED:20240920T174617Z
LAST-MODIFIED:20241221T183804Z
UID:10006412-1727985600-1727992800@parkvillemarket.com
SUMMARY:1st Thursday Bingo Night
DESCRIPTION:Bingo is back baby!! Join us as we welcome back bingo with DJ B-EZ every First Thursday of the month from 8PM – 10PM! Come join us for some Thursday night fun\, free entry no buy in.
URL:https://parkvillemarket.com/event/1st-thursday-bingo-night/2024-10-03/
LOCATION:The Local\, 1400 Park Street\, Hartford\, Connecticut (CT)\, 06106\, United States
ATTACH;FMTTYPE=image/jpeg:https://parkvillemarket.com/wp-content/uploads/2024/09/Website-Throwback-Bingo-2.jpg
END:VEVENT
BEGIN:VEVENT
DTSTART;TZID=America/New_York:20241003T200000
DTEND;TZID=America/New_York:20241003T230000
DTSTAMP:20260419T082740
CREATED:20240905T222410Z
LAST-MODIFIED:20240905T222410Z
UID:10006373-1727985600-1727996400@parkvillemarket.com
SUMMARY:Football @ Parkville Market
DESCRIPTION:
URL:https://parkvillemarket.com/event/football-parkville-market/2024-10-03/
ATTACH;FMTTYPE=image/jpeg:https://parkvillemarket.com/wp-content/uploads/2024/09/Web-Football-for-Calendar.jpg
END:VEVENT
END:VCALENDAR