BEGIN:VCALENDAR
VERSION:2.0
PRODID:-//Parkville Market - ECPv6.15.15//NONSGML v1.0//EN
CALSCALE:GREGORIAN
METHOD:PUBLISH
X-ORIGINAL-URL:https://parkvillemarket.com
X-WR-CALDESC:Events for Parkville Market
REFRESH-INTERVAL;VALUE=DURATION:PT1H
X-Robots-Tag:noindex
X-PUBLISHED-TTL:PT1H
BEGIN:VTIMEZONE
TZID:America/New_York
BEGIN:DAYLIGHT
TZOFFSETFROM:-0500
TZOFFSETTO:-0400
TZNAME:EDT
DTSTART:20230312T070000
END:DAYLIGHT
BEGIN:STANDARD
TZOFFSETFROM:-0400
TZOFFSETTO:-0500
TZNAME:EST
DTSTART:20231105T060000
END:STANDARD
BEGIN:DAYLIGHT
TZOFFSETFROM:-0500
TZOFFSETTO:-0400
TZNAME:EDT
DTSTART:20240310T070000
END:DAYLIGHT
BEGIN:STANDARD
TZOFFSETFROM:-0400
TZOFFSETTO:-0500
TZNAME:EST
DTSTART:20241103T060000
END:STANDARD
BEGIN:DAYLIGHT
TZOFFSETFROM:-0500
TZOFFSETTO:-0400
TZNAME:EDT
DTSTART:20250309T070000
END:DAYLIGHT
BEGIN:STANDARD
TZOFFSETFROM:-0400
TZOFFSETTO:-0500
TZNAME:EST
DTSTART:20251102T060000
END:STANDARD
END:VTIMEZONE
BEGIN:VEVENT
DTSTART;TZID=America/New_York:20241119T170000
DTEND;TZID=America/New_York:20241119T190000
DTSTAMP:20260421T075158
CREATED:20241114T185913Z
LAST-MODIFIED:20241114T190230Z
UID:10006498-1732035600-1732042800@parkvillemarket.com
SUMMARY:Neighborhood Plan Open House
DESCRIPTION:Come join your neighbors at Parkville Market and learn more about the Parkville Neighborhood Plan!
URL:https://parkvillemarket.com/event/neighborhood-plan-open-house/
LOCATION:The Local\, 1400 Park Street\, Hartford\, Connecticut (CT)\, 06106\, United States
ATTACH;FMTTYPE=image/jpeg:https://parkvillemarket.com/wp-content/uploads/2024/11/Web-Neighborhood-Plan-Open-House-1.jpg
END:VEVENT
BEGIN:VEVENT
DTSTART;TZID=America/New_York:20241119T180000
DTEND;TZID=America/New_York:20241119T210000
DTSTAMP:20260421T075158
CREATED:20230117T234942Z
LAST-MODIFIED:20240312T203044Z
UID:10003636-1732039200-1732050000@parkvillemarket.com
SUMMARY:Salsa Lesson with Joey Huertas
DESCRIPTION:Have you been searching ways to add some flavor to your Tuesdays? Looking to prepare for the next Salsa Under the Stars? Come join our Salsa classes hosted by Joey Salsa Con Huertas from 6-9PM located in our Brick Room (under the stairs\, near the elevator)!  \nCost: $10 collected at the door
URL:https://parkvillemarket.com/event/salsa-dancing-at-parkville-market/2024-11-19/
LOCATION:Brick Room\, 1400 Park Street\, Hartford\, Connecticut (CT)\, 06106\, United States
ATTACH;FMTTYPE=image/jpeg:https://parkvillemarket.com/wp-content/uploads/2023/01/Salsa_dancing_lessons_parkville_market.jpg
END:VEVENT
BEGIN:VEVENT
DTSTART;TZID=America/New_York:20241119T190000
DTEND;TZID=America/New_York:20241119T210000
DTSTAMP:20260421T075158
CREATED:20230119T203610Z
LAST-MODIFIED:20240426T170910Z
UID:10007248-1732042800-1732050000@parkvillemarket.com
SUMMARY:Trivia Tuesday
DESCRIPTION:Get ready to flex your smarts! We’ve partnered with Bar Rated Entertainment to bring you the most fun trivia in town! Put those random facts in your brain to good use every Tuesday in The Local. \nPrizes\, drink specials\, and more! Sign-ups start at 7PM!
URL:https://parkvillemarket.com/event/trivia-night-parkville-market-2-5/2024-11-19/
ATTACH;FMTTYPE=image/jpeg:https://parkvillemarket.com/wp-content/uploads/2023/01/Web-Tuesday-Trivia-Updated.jpg
END:VEVENT
BEGIN:VEVENT
DTSTART;TZID=America/New_York:20241119T190000
DTEND;TZID=America/New_York:20241119T210000
DTSTAMP:20260421T075158
CREATED:20240914T210436Z
LAST-MODIFIED:20240914T210437Z
UID:10003899-1732042800-1732050000@parkvillemarket.com
SUMMARY:Trivia Tuesday: Harry Potter Edition
DESCRIPTION:“I am what I am\, an’ I’m not ashamed. ‘Never be ashamed\,’ my ol’ dad used ter say\, ‘there’s some who’ll hold it against you\, but they’re not worth botherin’ with.’” —Rubeus Hagrid \nGet ready to flex your Harry Potter smarts at Harry Potter Trivia Night! We’ve partnered with Bar Rated Entertainment to bring you the most fun trivia around. \nPrizes\, drink specials\, and more! Sign-ups start at 7PM!
URL:https://parkvillemarket.com/event/trivia-night-parkville-market-2-5-2/
ATTACH;FMTTYPE=image/jpeg:https://parkvillemarket.com/wp-content/uploads/2023/01/Website-Bar-Rated-Harry-Potter-Trivia-1.jpg
END:VEVENT
END:VCALENDAR