BEGIN:VCALENDAR
VERSION:2.0
PRODID:-//Parkville Market - ECPv6.15.15//NONSGML v1.0//EN
CALSCALE:GREGORIAN
METHOD:PUBLISH
X-WR-CALNAME:Parkville Market
X-ORIGINAL-URL:https://parkvillemarket.com
X-WR-CALDESC:Events for Parkville Market
REFRESH-INTERVAL;VALUE=DURATION:PT1H
X-Robots-Tag:noindex
X-PUBLISHED-TTL:PT1H
BEGIN:VTIMEZONE
TZID:America/New_York
BEGIN:DAYLIGHT
TZOFFSETFROM:-0500
TZOFFSETTO:-0400
TZNAME:EDT
DTSTART:20240310T070000
END:DAYLIGHT
BEGIN:STANDARD
TZOFFSETFROM:-0400
TZOFFSETTO:-0500
TZNAME:EST
DTSTART:20241103T060000
END:STANDARD
BEGIN:DAYLIGHT
TZOFFSETFROM:-0500
TZOFFSETTO:-0400
TZNAME:EDT
DTSTART:20250309T070000
END:DAYLIGHT
BEGIN:STANDARD
TZOFFSETFROM:-0400
TZOFFSETTO:-0500
TZNAME:EST
DTSTART:20251102T060000
END:STANDARD
BEGIN:DAYLIGHT
TZOFFSETFROM:-0500
TZOFFSETTO:-0400
TZNAME:EDT
DTSTART:20260308T070000
END:DAYLIGHT
BEGIN:STANDARD
TZOFFSETFROM:-0400
TZOFFSETTO:-0500
TZNAME:EST
DTSTART:20261101T060000
END:STANDARD
END:VTIMEZONE
BEGIN:VEVENT
DTSTART;TZID=America/New_York:20250120T110000
DTEND;TZID=America/New_York:20250120T200000
DTSTAMP:20260419T221508
CREATED:20250109T225606Z
LAST-MODIFIED:20250109T225607Z
UID:10006660-1737370800-1737403200@parkvillemarket.com
SUMMARY:KIDS EAT FREE* ON MONDAYS
DESCRIPTION:*With the purchase of an adult entrée from the same vendor. 
URL:https://parkvillemarket.com/event/kids-eat-free-on-mondays/2025-01-20/
ATTACH;FMTTYPE=image/jpeg:https://parkvillemarket.com/wp-content/uploads/2025/01/Web-Kids-Eat-Free-Mondays-1920-x-1080-px.jpg
END:VEVENT
BEGIN:VEVENT
DTSTART;TZID=America/New_York:20250120T140000
DTEND;TZID=America/New_York:20250120T150000
DTSTAMP:20260419T221508
CREATED:20241220T233338Z
LAST-MODIFIED:20241221T194646Z
UID:10006528-1737381600-1737385200@parkvillemarket.com
SUMMARY:Martin Luther King Jr. Day
DESCRIPTION:Join us on Monday\, January 20 at 2PM as the “I Have a Dream” speech is played in full throughout the Market in celebration of what would have been the Reverend Dr. Martin Luther King Jr.’s 96th birthday.
URL:https://parkvillemarket.com/event/martin-luther-king-jr-day-2/
ATTACH;FMTTYPE=image/jpeg:https://parkvillemarket.com/wp-content/uploads/2024/12/Web-MLK-Day.jpg
END:VEVENT
END:VCALENDAR