BEGIN:VCALENDAR
VERSION:2.0
PRODID:-//Parkville Market - ECPv6.15.15//NONSGML v1.0//EN
CALSCALE:GREGORIAN
METHOD:PUBLISH
X-WR-CALNAME:Parkville Market
X-ORIGINAL-URL:https://parkvillemarket.com
X-WR-CALDESC:Events for Parkville Market
REFRESH-INTERVAL;VALUE=DURATION:PT1H
X-Robots-Tag:noindex
X-PUBLISHED-TTL:PT1H
BEGIN:VTIMEZONE
TZID:America/New_York
BEGIN:DAYLIGHT
TZOFFSETFROM:-0500
TZOFFSETTO:-0400
TZNAME:EDT
DTSTART:20240310T070000
END:DAYLIGHT
BEGIN:STANDARD
TZOFFSETFROM:-0400
TZOFFSETTO:-0500
TZNAME:EST
DTSTART:20241103T060000
END:STANDARD
BEGIN:DAYLIGHT
TZOFFSETFROM:-0500
TZOFFSETTO:-0400
TZNAME:EDT
DTSTART:20250309T070000
END:DAYLIGHT
BEGIN:STANDARD
TZOFFSETFROM:-0400
TZOFFSETTO:-0500
TZNAME:EST
DTSTART:20251102T060000
END:STANDARD
BEGIN:DAYLIGHT
TZOFFSETFROM:-0500
TZOFFSETTO:-0400
TZNAME:EDT
DTSTART:20260308T070000
END:DAYLIGHT
BEGIN:STANDARD
TZOFFSETFROM:-0400
TZOFFSETTO:-0500
TZNAME:EST
DTSTART:20261101T060000
END:STANDARD
END:VTIMEZONE
BEGIN:VEVENT
DTSTART;TZID=America/New_York:20250406T140000
DTEND;TZID=America/New_York:20250406T180000
DTSTAMP:20260423T084915
CREATED:20250305T195028Z
LAST-MODIFIED:20250406T164559Z
UID:10007279-1743948000-1743962400@parkvillemarket.com
SUMMARY:Ocean + Sand Permanent Jewelry Pop-Up Shop
DESCRIPTION:Join us as Ocean + Sand brings its beloved permanent jewelry to Parkville! Whether it’s a treat for yourself\, a bonding moment with a friend\, or a meaningful gift\, these timeless pieces are perfect for marking the moments that matter. Just come by and make it permanent!
URL:https://parkvillemarket.com/event/ocean-sand-permanent-jewelry-pop-up-shop-3/
CATEGORIES:Parkville Market's Pop Ups
ATTACH;FMTTYPE=image/jpeg:https://parkvillemarket.com/wp-content/uploads/2025/03/1-1.jpg
END:VEVENT
END:VCALENDAR