BEGIN:VCALENDAR
VERSION:2.0
PRODID:-//Parkville Market - ECPv6.15.15//NONSGML v1.0//EN
CALSCALE:GREGORIAN
METHOD:PUBLISH
X-WR-CALNAME:Parkville Market
X-ORIGINAL-URL:https://parkvillemarket.com
X-WR-CALDESC:Events for Parkville Market
REFRESH-INTERVAL;VALUE=DURATION:PT1H
X-Robots-Tag:noindex
X-PUBLISHED-TTL:PT1H
BEGIN:VTIMEZONE
TZID:America/New_York
BEGIN:DAYLIGHT
TZOFFSETFROM:-0500
TZOFFSETTO:-0400
TZNAME:EDT
DTSTART:20240310T070000
END:DAYLIGHT
BEGIN:STANDARD
TZOFFSETFROM:-0400
TZOFFSETTO:-0500
TZNAME:EST
DTSTART:20241103T060000
END:STANDARD
BEGIN:DAYLIGHT
TZOFFSETFROM:-0500
TZOFFSETTO:-0400
TZNAME:EDT
DTSTART:20250309T070000
END:DAYLIGHT
BEGIN:STANDARD
TZOFFSETFROM:-0400
TZOFFSETTO:-0500
TZNAME:EST
DTSTART:20251102T060000
END:STANDARD
BEGIN:DAYLIGHT
TZOFFSETFROM:-0500
TZOFFSETTO:-0400
TZNAME:EDT
DTSTART:20260308T070000
END:DAYLIGHT
BEGIN:STANDARD
TZOFFSETFROM:-0400
TZOFFSETTO:-0500
TZNAME:EST
DTSTART:20261101T060000
END:STANDARD
END:VTIMEZONE
BEGIN:VEVENT
DTSTART;TZID=America/New_York:20250510T120000
DTEND;TZID=America/New_York:20250510T160000
DTSTAMP:20260419T082745
CREATED:20250410T180516Z
LAST-MODIFIED:20250423T181745Z
UID:10007330-1746878400-1746892800@parkvillemarket.com
SUMMARY:Fostering Growth Block Party
DESCRIPTION:Join us for a free community block party on the patio\, celebrating National Foster Care Month with a day filled with family fun\, music\, and pop-up shopping! \nIn partnership with The Village & CAFAF
URL:https://parkvillemarket.com/event/fostering-growth-event/
LOCATION:The Patio
ATTACH;FMTTYPE=image/jpeg:https://parkvillemarket.com/wp-content/uploads/2025/04/Web-Fostering-Growth-Event-2.jpg
END:VEVENT
BEGIN:VEVENT
DTSTART;TZID=America/New_York:20250510T130000
DTEND;TZID=America/New_York:20250510T160000
DTSTAMP:20260419T082745
CREATED:20250410T164816Z
LAST-MODIFIED:20250410T165442Z
UID:10007329-1746882000-1746892800@parkvillemarket.com
SUMMARY:Hartford Decide$ Pop Up
DESCRIPTION:Hartford\, Help Us Decide! \nFrom April 15 to May 15\, we’re collecting votes from Hartford residents on community-driven projects. This is your chance to make a positive impact! \nJoin us at Parkville Market to cast your vote\, learn about Hartford Decides\, discuss the projects with us\, and discover how participatory budgeting empowers residents to make decisions about public spending. \nMust be a Hartford resident aged 10 and up\, to vote. Please note that citizenship status is not a requirement – all residents are encouraged to participate. If you’re unable to attend in person\, you can also cast your vote online at hartforddecides.org. \n  \nDon’t miss your chance to make a difference!
URL:https://parkvillemarket.com/event/hartford-decide-pop-up/2025-05-10/
LOCATION:The Patio
CATEGORIES:Parkville Market's Pop Ups
ATTACH;FMTTYPE=image/jpeg:https://parkvillemarket.com/wp-content/uploads/2025/04/Pop-up-Hartford-Decide.jpg
END:VEVENT
BEGIN:VEVENT
DTSTART;TZID=America/New_York:20250510T200000
DTEND;TZID=America/New_York:20250510T230000
DTSTAMP:20260419T082745
CREATED:20250424T173047Z
LAST-MODIFIED:20250424T173048Z
UID:10007349-1746907200-1746918000@parkvillemarket.com
SUMMARY:Rock the Local: The Isaac Monts Collective
DESCRIPTION:Join us on Saturday nights for Rock the Local! We’re always excited to showcase talented artists and bands from the local music scene. From rock to pop to folk\, there’s something for everyone to enjoy. \nOn Saturday\, May 10\, enjoy the sounds of The Isaac Monts Collective!
URL:https://parkvillemarket.com/event/rock-the-local-the-isaac-monts-collective/
LOCATION:The Local\, 1400 Park Street\, Hartford\, Connecticut (CT)\, 06106\, United States
CATEGORIES:Free Live Music
ATTACH;FMTTYPE=image/jpeg:https://parkvillemarket.com/wp-content/uploads/2025/04/web-fairfieldst-april.jpg
END:VEVENT
END:VCALENDAR