BEGIN:VCALENDAR
VERSION:2.0
PRODID:-//Parkville Market - ECPv6.15.15//NONSGML v1.0//EN
CALSCALE:GREGORIAN
METHOD:PUBLISH
X-WR-CALNAME:Parkville Market
X-ORIGINAL-URL:https://parkvillemarket.com
X-WR-CALDESC:Events for Parkville Market
REFRESH-INTERVAL;VALUE=DURATION:PT1H
X-Robots-Tag:noindex
X-PUBLISHED-TTL:PT1H
BEGIN:VTIMEZONE
TZID:America/New_York
BEGIN:DAYLIGHT
TZOFFSETFROM:-0500
TZOFFSETTO:-0400
TZNAME:EDT
DTSTART:20240310T070000
END:DAYLIGHT
BEGIN:STANDARD
TZOFFSETFROM:-0400
TZOFFSETTO:-0500
TZNAME:EST
DTSTART:20241103T060000
END:STANDARD
BEGIN:DAYLIGHT
TZOFFSETFROM:-0500
TZOFFSETTO:-0400
TZNAME:EDT
DTSTART:20250309T070000
END:DAYLIGHT
BEGIN:STANDARD
TZOFFSETFROM:-0400
TZOFFSETTO:-0500
TZNAME:EST
DTSTART:20251102T060000
END:STANDARD
BEGIN:DAYLIGHT
TZOFFSETFROM:-0500
TZOFFSETTO:-0400
TZNAME:EDT
DTSTART:20260308T070000
END:DAYLIGHT
BEGIN:STANDARD
TZOFFSETFROM:-0400
TZOFFSETTO:-0500
TZNAME:EST
DTSTART:20261101T060000
END:STANDARD
END:VTIMEZONE
BEGIN:VEVENT
DTSTART;TZID=America/New_York:20250629T150000
DTEND;TZID=America/New_York:20250629T173000
DTSTAMP:20260420T225027
CREATED:20250523T220451Z
LAST-MODIFIED:20250626T150457Z
UID:10007412-1751209200-1751218200@parkvillemarket.com
SUMMARY:Cookie Decorating with StidYums (14+)
DESCRIPTION:Enjoy an evening of decorating sugar cookies with Loren from StidYums!! Together we will practice basic royal icing piping and filling techniques\, and YOU will walk away with these 5 beautifully decorated cookies. No experience is needed. All supplies will be provided. Class will take place in the conference room promptly at the start time of the class.  \n 
URL:https://parkvillemarket.com/event/cookie-decorating-with-stidyums-14-2/
LOCATION:Second Floor – Stalls
CATEGORIES:Art Workshop
ATTACH;FMTTYPE=image/jpeg:https://parkvillemarket.com/wp-content/uploads/2025/05/Copy-of-local-tv-ad-Cookie-Class-1920-x-1080-px.jpg
END:VEVENT
END:VCALENDAR