BEGIN:VCALENDAR
VERSION:2.0
PRODID:-//Parkville Market - ECPv6.15.15//NONSGML v1.0//EN
CALSCALE:GREGORIAN
METHOD:PUBLISH
X-WR-CALNAME:Parkville Market
X-ORIGINAL-URL:https://parkvillemarket.com
X-WR-CALDESC:Events for Parkville Market
REFRESH-INTERVAL;VALUE=DURATION:PT1H
X-Robots-Tag:noindex
X-PUBLISHED-TTL:PT1H
BEGIN:VTIMEZONE
TZID:America/New_York
BEGIN:DAYLIGHT
TZOFFSETFROM:-0500
TZOFFSETTO:-0400
TZNAME:EDT
DTSTART:20240310T070000
END:DAYLIGHT
BEGIN:STANDARD
TZOFFSETFROM:-0400
TZOFFSETTO:-0500
TZNAME:EST
DTSTART:20241103T060000
END:STANDARD
BEGIN:DAYLIGHT
TZOFFSETFROM:-0500
TZOFFSETTO:-0400
TZNAME:EDT
DTSTART:20250309T070000
END:DAYLIGHT
BEGIN:STANDARD
TZOFFSETFROM:-0400
TZOFFSETTO:-0500
TZNAME:EST
DTSTART:20251102T060000
END:STANDARD
BEGIN:DAYLIGHT
TZOFFSETFROM:-0500
TZOFFSETTO:-0400
TZNAME:EDT
DTSTART:20260308T070000
END:DAYLIGHT
BEGIN:STANDARD
TZOFFSETFROM:-0400
TZOFFSETTO:-0500
TZNAME:EST
DTSTART:20261101T060000
END:STANDARD
END:VTIMEZONE
BEGIN:VEVENT
DTSTART;TZID=America/New_York:20251221T130000
DTEND;TZID=America/New_York:20251221T153000
DTSTAMP:20260420T151552
CREATED:20251024T171533Z
LAST-MODIFIED:20251024T193915Z
UID:10007698-1766322000-1766331000@parkvillemarket.com
SUMMARY:Holiday Cookie Decorating with StidYums (14+)
DESCRIPTION:Enjoy an afternoon of holiday cheer and decorating sugar cookies with Loren from StidYums!! Together we will practice basic royal icing piping and filling techniques and YOU will walk away with these 6 beautifully decorated cookies. Hot cocoa bar and a sweet treats will be provided during “cocoa hour”. Ugly Sweaters are encouraged however\, not required. \n\nEvent is great for all level as well as beginners. Recommended age 14+.\nClass will take place on the second floor of Parkville Market in the Conference Room- there is an elevator.\nDoors open at 12pm. Class begins promptly at 1pm.\nAll supplies will be provided\, including a take home box.\nIf you require gluten sensitive\, please purchase a gluten sensitive add on.
URL:https://parkvillemarket.com/event/holiday-cookie-decorating-with-stidyums/
CATEGORIES:Art Workshop
ATTACH;FMTTYPE=image/jpeg:https://parkvillemarket.com/wp-content/uploads/2025/10/Web-Dec.-Cookie-Making-Class-1.jpg
END:VEVENT
END:VCALENDAR