BEGIN:VCALENDAR
VERSION:2.0
PRODID:-//Parkville Market - ECPv6.15.15//NONSGML v1.0//EN
CALSCALE:GREGORIAN
METHOD:PUBLISH
X-WR-CALNAME:Parkville Market
X-ORIGINAL-URL:https://parkvillemarket.com
X-WR-CALDESC:Events for Parkville Market
REFRESH-INTERVAL;VALUE=DURATION:PT1H
X-Robots-Tag:noindex
X-PUBLISHED-TTL:PT1H
BEGIN:VTIMEZONE
TZID:America/New_York
BEGIN:DAYLIGHT
TZOFFSETFROM:-0500
TZOFFSETTO:-0400
TZNAME:EDT
DTSTART:20230312T070000
END:DAYLIGHT
BEGIN:STANDARD
TZOFFSETFROM:-0400
TZOFFSETTO:-0500
TZNAME:EST
DTSTART:20231105T060000
END:STANDARD
BEGIN:DAYLIGHT
TZOFFSETFROM:-0500
TZOFFSETTO:-0400
TZNAME:EDT
DTSTART:20240310T070000
END:DAYLIGHT
BEGIN:STANDARD
TZOFFSETFROM:-0400
TZOFFSETTO:-0500
TZNAME:EST
DTSTART:20241103T060000
END:STANDARD
BEGIN:DAYLIGHT
TZOFFSETFROM:-0500
TZOFFSETTO:-0400
TZNAME:EDT
DTSTART:20250309T070000
END:DAYLIGHT
BEGIN:STANDARD
TZOFFSETFROM:-0400
TZOFFSETTO:-0500
TZNAME:EST
DTSTART:20251102T060000
END:STANDARD
END:VTIMEZONE
BEGIN:VEVENT
DTSTART;TZID=America/New_York:20241214T180000
DTEND;TZID=America/New_York:20241214T210000
DTSTAMP:20260424T074459
CREATED:20241115T190640Z
LAST-MODIFIED:20241115T204642Z
UID:10006499-1734199200-1734210000@parkvillemarket.com
SUMMARY:Filthy Comedy @ Parkville Market
DESCRIPTION:Get your laugh on at the next Filthy Comedy show at Parkville Market on Saturday\, December 14th! Doors @ 6PM – Show @ 7PM! \nFeatured comics include: \nJames Camacho (Headliner) • JAMES CAMACHO \nJames Camacho\nJames Camacho is a NYC based comedian via NJ. James is an only child that grew up with a Chinese mom and Puerto Rican dad. He has a great uniqueness\, likability\, and boyish charm that make him one of the most hilarious and polished young comedians out there!\nJames has appeared on Kevin Hart’s LOL Network. He has been seen on “FBI” and “Kevin Can Wait” on CBS. He’s appeared on commercials for Dunkin Donuts\, ESPN\, & Vice. He also appeared in the movie\, “Before I go” with Willie Garson & Annabelle Sciorra\, and “What Happened Last Night” with Amber Rose. He also appeared in Jay-Z’s music video for “I Got the Keys” with DJ Khaled.In a time of political turmoil and social unrest James’ point of view & comedic tellings of his mixed heritage\, and personal and dating life is enjoyable and relaxing for everyone. Follow him @CAMACHBRO on Instagram and TikTok\, where his videos have garnered over 100 million views! \nJules Posner (Opener) • JULES POSNER \nJules Posner is a Philly based comedian who has performed all across the country. \nJules has been featured on Jokes.com’s No Drink Minimum and Rooftopcomedy.com’s Road Trip on Hulu. He also performs regularly at SF Sketchfest\, is a member of The Business\, and was named “not a poser” by Skateboard Magazine’s “are you a poser” quiz. When he’s not doing comedy\, Jules enjoys keeping it real. \nKevin Mcgloin (Featuring) • KEVIN MCGLOIN \nKevin McGloin is a NYC comedian that’s been featured in New York Comedy Festival and tours nationally with his show Prohibition Comedy. \nHost: Ayesheh Mae • AYESHEH MAE \nAyesheh Mae is a CT-based comic who is very crass and loves emo music. She currently produces the successful Filthy Comedy which she runs all on her own. She runs shows at breweries all across the state\, and has also performed at COMIX at Mohegan Sun\, the Grisley Pear\, and Broadway Comedy Club in NYC\, and recently performed in the Portland Comedy Festival.
URL:https://parkvillemarket.com/event/filthy-comedy-parkville-market-8/
LOCATION:The Local\, 1400 Park Street\, Hartford\, Connecticut (CT)\, 06106\, United States
CATEGORIES:Comedy @ Parkville Market
ATTACH;FMTTYPE=image/jpeg:https://parkvillemarket.com/wp-content/uploads/2024/11/Web-December-Filthy-Comedy-1.jpg
END:VEVENT
END:VCALENDAR